BEGIN:VCALENDAR
VERSION:2.0
PRODID:-//Nevada Coalition for Suicide Prevention - ECPv6.15.17.1//NONSGML v1.0//EN
CALSCALE:GREGORIAN
METHOD:PUBLISH
X-ORIGINAL-URL:https://nvsuicideprevention.org
X-WR-CALDESC:Events for Nevada Coalition for Suicide Prevention
REFRESH-INTERVAL;VALUE=DURATION:PT1H
X-Robots-Tag:noindex
X-PUBLISHED-TTL:PT1H
BEGIN:VTIMEZONE
TZID:UTC
BEGIN:STANDARD
TZOFFSETFROM:+0000
TZOFFSETTO:+0000
TZNAME:UTC
DTSTART:20210101T000000
END:STANDARD
END:VTIMEZONE
BEGIN:VEVENT
DTSTART;TZID=UTC:20220910T173000
DTEND;TZID=UTC:20220910T190000
DTSTAMP:20260425T114750
CREATED:20220910T063738Z
LAST-MODIFIED:20220911T010614Z
UID:1277-1662831000-1662836400@nvsuicideprevention.org
SUMMARY:World Suicide Prevention Day 2022
DESCRIPTION:Join us on World Suicide Prevention Day\nHBO Documentary Screening\nCrisis Hotline: Veterans Press 1\n988 Panel Discussion\nLantern Lighting and Operation Battle Born Ruck for Life \nSeptember 10\, 2022\n5:30 PM\nTruckee Meadows Community College \n﻿World Suicide Prevention Day 9 10 22
URL:https://nvsuicideprevention.org/event/world-suicide-prevention-day-2022/
LOCATION:Truckee Meadows Community College\, 7000 Dandini Blvd\, Reno\, NV\, 89512\, United States
CATEGORIES:world suicide prevention day
END:VEVENT
END:VCALENDAR