BEGIN:VCALENDAR
VERSION:2.0
PRODID:-//Nevada Coalition for Suicide Prevention - ECPv6.15.17.1//NONSGML v1.0//EN
CALSCALE:GREGORIAN
METHOD:PUBLISH
X-WR-CALNAME:Nevada Coalition for Suicide Prevention
X-ORIGINAL-URL:https://nvsuicideprevention.org
X-WR-CALDESC:Events for Nevada Coalition for Suicide Prevention
REFRESH-INTERVAL;VALUE=DURATION:PT1H
X-Robots-Tag:noindex
X-PUBLISHED-TTL:PT1H
BEGIN:VTIMEZONE
TZID:America/Los_Angeles
BEGIN:DAYLIGHT
TZOFFSETFROM:-0800
TZOFFSETTO:-0700
TZNAME:PDT
DTSTART:20210314T100000
END:DAYLIGHT
BEGIN:STANDARD
TZOFFSETFROM:-0700
TZOFFSETTO:-0800
TZNAME:PST
DTSTART:20211107T090000
END:STANDARD
BEGIN:DAYLIGHT
TZOFFSETFROM:-0800
TZOFFSETTO:-0700
TZNAME:PDT
DTSTART:20220313T100000
END:DAYLIGHT
BEGIN:STANDARD
TZOFFSETFROM:-0700
TZOFFSETTO:-0800
TZNAME:PST
DTSTART:20221106T090000
END:STANDARD
BEGIN:DAYLIGHT
TZOFFSETFROM:-0800
TZOFFSETTO:-0700
TZNAME:PDT
DTSTART:20230312T100000
END:DAYLIGHT
BEGIN:STANDARD
TZOFFSETFROM:-0700
TZOFFSETTO:-0800
TZNAME:PST
DTSTART:20231105T090000
END:STANDARD
BEGIN:DAYLIGHT
TZOFFSETFROM:-0800
TZOFFSETTO:-0700
TZNAME:PDT
DTSTART:20240310T100000
END:DAYLIGHT
BEGIN:STANDARD
TZOFFSETFROM:-0700
TZOFFSETTO:-0800
TZNAME:PST
DTSTART:20241103T090000
END:STANDARD
END:VTIMEZONE
BEGIN:VTIMEZONE
TZID:UTC
BEGIN:STANDARD
TZOFFSETFROM:+0000
TZOFFSETTO:+0000
TZNAME:UTC
DTSTART:20210101T000000
END:STANDARD
END:VTIMEZONE
BEGIN:VTIMEZONE
TZID:America/New_York
BEGIN:DAYLIGHT
TZOFFSETFROM:-0500
TZOFFSETTO:-0400
TZNAME:EDT
DTSTART:20210314T070000
END:DAYLIGHT
BEGIN:STANDARD
TZOFFSETFROM:-0400
TZOFFSETTO:-0500
TZNAME:EST
DTSTART:20211107T060000
END:STANDARD
BEGIN:DAYLIGHT
TZOFFSETFROM:-0500
TZOFFSETTO:-0400
TZNAME:EDT
DTSTART:20220313T070000
END:DAYLIGHT
BEGIN:STANDARD
TZOFFSETFROM:-0400
TZOFFSETTO:-0500
TZNAME:EST
DTSTART:20221106T060000
END:STANDARD
BEGIN:DAYLIGHT
TZOFFSETFROM:-0500
TZOFFSETTO:-0400
TZNAME:EDT
DTSTART:20230312T070000
END:DAYLIGHT
BEGIN:STANDARD
TZOFFSETFROM:-0400
TZOFFSETTO:-0500
TZNAME:EST
DTSTART:20231105T060000
END:STANDARD
END:VTIMEZONE
BEGIN:VEVENT
DTSTART;TZID=America/Los_Angeles:20230520T090000
DTEND;TZID=America/Los_Angeles:20230520T120000
DTSTAMP:20260425T044006
CREATED:20230425T225225Z
LAST-MODIFIED:20230515T193409Z
UID:1577-1684573200-1684584000@nvsuicideprevention.org
SUMMARY:McDermitt MH Fair safeTALK
DESCRIPTION:9-12 pm
URL:https://nvsuicideprevention.org/event/mcdermitt-mh-fair-safetalk/
END:VEVENT
BEGIN:VEVENT
DTSTART;TZID=America/Los_Angeles:20230520T080000
DTEND;TZID=America/Los_Angeles:20230520T170000
DTSTAMP:20260425T044006
CREATED:20230125T185610Z
LAST-MODIFIED:20230125T185610Z
UID:1448-1684569600-1684602000@nvsuicideprevention.org
SUMMARY:AFSP Out of the Darkness Walk Reno
DESCRIPTION:The Out of the Darkness Community Walk is a journey of remembrance\, hope\, and support. It unites our communities and provides an opportunity to acknowledge the ways in which suicide and mental health conditions have affected our lives and the lives of those we love and care about.\nIf you’re looking for support and/or resources\, please visit www.afsp.org/get-help and www.afsp.org/resources.
URL:https://nvsuicideprevention.org/event/afsp-out-of-the-darkness-walk-reno/
END:VEVENT
BEGIN:VEVENT
DTSTART;TZID=America/Los_Angeles:20230516T170000
DTEND;TZID=America/Los_Angeles:20230516T200000
DTSTAMP:20260425T044006
CREATED:20230425T224748Z
LAST-MODIFIED:20230515T192153Z
UID:1573-1684256400-1684267200@nvsuicideprevention.org
SUMMARY:Brain Health and You Presentation
DESCRIPTION:5:00-8:00 PM East Hall Convention Center
URL:https://nvsuicideprevention.org/event/brain-health-and-you-presentation/
END:VEVENT
BEGIN:VEVENT
DTSTART;TZID=America/Los_Angeles:20230513T080000
DTEND;TZID=America/Los_Angeles:20230513T170000
DTSTAMP:20260425T044006
CREATED:20230425T224435Z
LAST-MODIFIED:20230515T192106Z
UID:1571-1683964800-1683997200@nvsuicideprevention.org
SUMMARY:Law Enforcement BBQ
DESCRIPTION:11:00-1:30 PM \nCourt Parking Lot
URL:https://nvsuicideprevention.org/event/law-enforcement-bbq/
END:VEVENT
BEGIN:VEVENT
DTSTART;TZID=America/Los_Angeles:20230510T133000
DTEND;TZID=America/Los_Angeles:20230510T170000
DTSTAMP:20260425T044006
CREATED:20230425T154908Z
LAST-MODIFIED:20230426T162718Z
UID:1554-1683725400-1683738000@nvsuicideprevention.org
SUMMARY:Walk For Mental Health
DESCRIPTION:﻿\n2023 Eliminate the Stigma MH Walk (1) \n 
URL:https://nvsuicideprevention.org/event/walk-for-mental-health/
END:VEVENT
BEGIN:VEVENT
DTSTART;TZID=America/Los_Angeles:20230509T080000
DTEND;TZID=America/Los_Angeles:20230510T170000
DTSTAMP:20260425T044006
CREATED:20230217T205010Z
LAST-MODIFIED:20230217T205010Z
UID:1470-1683619200-1683738000@nvsuicideprevention.org
SUMMARY:SAVE 2023 Summit: Designing a New Direction For Suicide Prevention
DESCRIPTION:SAVE 2023 Summit: Designing a New Direction For Suicide Prevention\nMay 9-10\, 2023 in Chicago\, Illinois\, USA \nhttps://www.savesummit2023.org/
URL:https://nvsuicideprevention.org/event/save-2023-summit-designing-a-new-direction-for-suicide-prevention/
END:VEVENT
BEGIN:VEVENT
DTSTART;TZID=America/Los_Angeles:20230506T090000
DTEND;TZID=America/Los_Angeles:20230506T130000
DTSTAMP:20260425T044006
CREATED:20230425T223649Z
LAST-MODIFIED:20230426T193442Z
UID:1567-1683363600-1683378000@nvsuicideprevention.org
SUMMARY:Smash The Stigma Dodgeball Tournament
DESCRIPTION:LHS 9:00 Reg. \n10:00 AM Play \n 
URL:https://nvsuicideprevention.org/event/smash-the-stigma-dodgeball-tournament/
ATTACH;FMTTYPE=image/jpeg:https://nvsuicideprevention.org/wp-content/uploads/2023/04/UPDATED-QR-DODGEBALL-2023-1.jpg
END:VEVENT
BEGIN:VEVENT
DTSTART;TZID=America/Los_Angeles:20230505T083000
DTEND;TZID=America/Los_Angeles:20230505T103000
DTSTAMP:20260425T044006
CREATED:20230425T223318Z
LAST-MODIFIED:20230425T223318Z
UID:1565-1683275400-1683282600@nvsuicideprevention.org
SUMMARY:Community Breakfast
DESCRIPTION:8:30AM \nSID’d Humboldt Connections Presenter
URL:https://nvsuicideprevention.org/event/community-breakfast/
END:VEVENT
BEGIN:VEVENT
DTSTART;TZID=America/Los_Angeles:20230501T080000
DTEND;TZID=America/Los_Angeles:20230531T170000
DTSTAMP:20260425T044006
CREATED:20230425T221053Z
LAST-MODIFIED:20230425T221053Z
UID:1560-1682928000-1685552400@nvsuicideprevention.org
SUMMARY:Paint The Town Green
DESCRIPTION:﻿\nPaint the Town Green (1)
URL:https://nvsuicideprevention.org/event/paint-the-town-green/
END:VEVENT
BEGIN:VEVENT
DTSTART;VALUE=DATE:20230501
DTEND;VALUE=DATE:20230504
DTSTAMP:20260425T044006
CREATED:20230426T225258Z
LAST-MODIFIED:20230428T200015Z
UID:1588-1682899200-1683158399@nvsuicideprevention.org
SUMMARY:NatCon2023
DESCRIPTION:Jennifer Hilton the NCSP Board Chair will be part of the speaker lineup at @NationalCouncil’s #NatCon23 representing all facets of health care at #NatCon23 – from policy influencers and medical directors to social workers\, researchers\, CEOs and clinicians. The National Council for Mental Wellbeing’s NatCon is the largest conference in mental health and substance use treatment. She can’t wait to talk about Mental Health First Aid as a MHFA Expert! #BetheDifference \n 
URL:https://nvsuicideprevention.org/event/natcon2023/
ATTACH;FMTTYPE=image/jpeg:https://nvsuicideprevention.org/wp-content/uploads/2023/04/Image-1.jpeg
END:VEVENT
BEGIN:VEVENT
DTSTART;TZID=America/Los_Angeles:20230426T080000
DTEND;TZID=America/Los_Angeles:20230428T170000
DTSTAMP:20260425T044006
CREATED:20230217T204925Z
LAST-MODIFIED:20230217T204925Z
UID:1468-1682496000-1682701200@nvsuicideprevention.org
SUMMARY:2nd annual Suicide Research Symposium (SRS)
DESCRIPTION:Virtual Symposium \n\n\nApril 26-28\, 2023 \n\n\nFree \n\n\nInfo:  https://www.SuicideResearchSymposium.com
URL:https://nvsuicideprevention.org/event/2nd-annual-suicide-research-symposium-srs/
END:VEVENT
BEGIN:VEVENT
DTSTART;TZID=America/Los_Angeles:20230425T100000
DTEND;TZID=America/Los_Angeles:20230425T130000
DTSTAMP:20260425T044006
CREATED:20230425T224148Z
LAST-MODIFIED:20230425T224148Z
UID:1569-1682416800-1682427600@nvsuicideprevention.org
SUMMARY:Handbags For Hope (FSC)
DESCRIPTION:10:00-1:00PM \nBNG Club
URL:https://nvsuicideprevention.org/event/handbags-for-hope-fsc/
END:VEVENT
BEGIN:VEVENT
DTSTART;TZID=America/Los_Angeles:20230425T080000
DTEND;TZID=America/Los_Angeles:20230425T170000
DTSTAMP:20260425T044006
CREATED:20230425T225449Z
LAST-MODIFIED:20230425T225449Z
UID:1579-1682409600-1682442000@nvsuicideprevention.org
SUMMARY:Alex Esquibel Presentation
DESCRIPTION:12:15-4pm
URL:https://nvsuicideprevention.org/event/alex-esquibel-presentation/
END:VEVENT
BEGIN:VEVENT
DTSTART;TZID=America/Los_Angeles:20230422T080000
DTEND;TZID=America/Los_Angeles:20230530T170000
DTSTAMP:20260425T044006
CREATED:20230124T235851Z
LAST-MODIFIED:20230125T185414Z
UID:1441-1682150400-1685466000@nvsuicideprevention.org
SUMMARY:AFSP Out of the Darkness Walk Vegas
DESCRIPTION:The Out of the Darkness Community Walk is a journey of remembrance\, hope\, and support. It unites our communities and provides an opportunity to acknowledge the ways in which suicide and mental health conditions have affected our lives and the lives of those we love and care about.
URL:https://nvsuicideprevention.org/event/afsp-out-of-the-darkness-walk-vegas/
END:VEVENT
BEGIN:VEVENT
DTSTART;TZID=America/Los_Angeles:20230419T080000
DTEND;TZID=America/Los_Angeles:20230422T170000
DTSTAMP:20260425T044006
CREATED:20230217T204752Z
LAST-MODIFIED:20230217T204752Z
UID:1466-1681891200-1682182800@nvsuicideprevention.org
SUMMARY:56th annual American Association of Suicidology Conference
DESCRIPTION:April 19-22\, 2023\nHybrid conference\, with in-person in Portland\, Oregon\nInfo:  https://suicidology.org/aas23/
URL:https://nvsuicideprevention.org/event/56th-annual-american-association-of-suicidology-conference/
END:VEVENT
BEGIN:VEVENT
DTSTART;TZID=America/Los_Angeles:20230414T080000
DTEND;TZID=America/Los_Angeles:20230414T170000
DTSTAMP:20260425T044006
CREATED:20230124T232020Z
LAST-MODIFIED:20230414T225456Z
UID:1436-1681459200-1681491600@nvsuicideprevention.org
SUMMARY:Mental Health 360 Conference
DESCRIPTION:Welcome to the Mental Health 360 Conference:\nKnowledge\, Self-Care & Transformation!\n  \nThis conference will bring together leading mental health researchers\, clinicians\, faculty\, students\, and advocates to share practical advice and raise awareness of warning signs to support individuals living with mental illness. The workshops consist of five tracks: Crisis & Trauma\, Diagnosis & Treatment\, Student Needs\, Legal Concerns\, and Diversity in Mental Health. This conference will take place at CSN’s North Las Vegas Campus inside the Nicholas J. Horn Theater. \nThis conference will bring together leading mental health researchers\, clinicians\, faculty\, students\, and advocates to share practical advice and raise awareness of warning signs to support individuals living with mental illness. The workshops consist of five tracks: Crisis & Trauma\, Diagnosis & Treatment\, Student Needs\, Legal Concerns\, and Diversity in Mental Health. This is a call for the workshop\, keynote speakers\, and panelists to present on one of the tracks below.
URL:https://nvsuicideprevention.org/event/mental-health-360-conference/
END:VEVENT
BEGIN:VEVENT
DTSTART;TZID=America/Los_Angeles:20230323T073000
DTEND;TZID=America/Los_Angeles:20230324T170000
DTSTAMP:20260425T044006
CREATED:20230124T224735Z
LAST-MODIFIED:20230124T224735Z
UID:1426-1679556600-1679677200@nvsuicideprevention.org
SUMMARY:16th Annual Nevada State Conference on Problem Gambling
DESCRIPTION:16th Annual Nevada State Conference on Problem Gambling.\nMarch 23-24\, 2023\nDaily 7:30 am – 5:00 pm – Breakfast & Lunch Included \nAn annual education and outreach event designed to assemble diverse experts and stakeholders to address this significant community health issue that affects the people of Nevada. Expert speakers from across the country come together to provide valuable information on trends and topics in gambling and responsible gaming through Prevention\, Education\, Research\, Government\, Gaming Industry and the Recovery Community. \n\n\n\n\n\nProgram Highlights Include\n\nSports Betting and Treatment\n\n\nFinancial Literacy for Therapists & Gamblers in Treatment\n\n\nUnderstanding the Pathway from Gambling Disorder to Gambling Motivated Crime\n\n\nFinding Recovery through Art – The Creative High Program\n\n\nEthics and Confidentiality\n\nPlus Much More !
URL:https://nvsuicideprevention.org/event/16th-annual-nevada-state-conference-on-problem-gambling/
END:VEVENT
BEGIN:VEVENT
DTSTART;TZID=America/Los_Angeles:20230321T130000
DTEND;TZID=America/Los_Angeles:20230322T163000
DTSTAMP:20260425T044006
CREATED:20230217T202415Z
LAST-MODIFIED:20230217T202415Z
UID:1464-1679403600-1679502600@nvsuicideprevention.org
SUMMARY:3rd Annual Suicide Care Summit: Safer Care In Clinical Practice
DESCRIPTION:Hosted by AFSP https://afsp.org/  &  \n\n\nThe Wellness Institute https://www.wellnessinstitute.org/ \n\n\nTu March 21 & W March 22\, 2023\, 1-4:30pm EDT \n\n\nRegistration: $99 \n\n\nhttps://www.eventbrite.com/e/3rd-annual-summit-suicide-safer-care-in-clinical-practice-tickets-500257542777
URL:https://nvsuicideprevention.org/event/3rd-annual-suicide-care-summit-safer-care-in-clinical-practice/
END:VEVENT
BEGIN:VEVENT
DTSTART;TZID=America/Los_Angeles:20230313T080000
DTEND;TZID=America/Los_Angeles:20230416T170000
DTSTAMP:20260425T044006
CREATED:20230124T231124Z
LAST-MODIFIED:20230124T231124Z
UID:1430-1678694400-1681664400@nvsuicideprevention.org
SUMMARY:Children’s Week at the Nevada Legislature
DESCRIPTION:The purpose of Children’s Week is to represent Nevada’s Children and help strengthen families in areas such as school readiness\, children’s physical and mental health\, and child safety and security. For the past six legislative sessions\, over 80 different non-profit\, corporate\, philanthropic\, and state agencies and organizations have joined together as we strengthened Nevada’s families by sharing a commitment to improve our communities through events and outreach efforts aimed at promoting the health\, safety\, and well-being of our children.
URL:https://nvsuicideprevention.org/event/childrens-week-at-the-nevada-legislature/
END:VEVENT
BEGIN:VEVENT
DTSTART;TZID=America/Los_Angeles:20230309T070000
DTEND;TZID=America/Los_Angeles:20230310T160000
DTSTAMP:20260425T044006
CREATED:20230124T225128Z
LAST-MODIFIED:20230124T225128Z
UID:1428-1678345200-1678464000@nvsuicideprevention.org
SUMMARY:Nevada Afterschool Showcase March 9 & 10 in Reno
DESCRIPTION:Our statewide conference hopes to bring together afterschool and out-of-school time professionals and leaders in the field to learn more about how to operate successful programs during these rapidly changing times. Innovation from the field has led to an expansion of program potential\, especially through new collaborative efforts. We also want to hear from experts on:\n​\nBest Practices for Afterschool & OST programs including: \n\nSTEAM programming and activities\nEntrepreneurship\nCollege & Career Readiness\nSupporting Mental Health & Social Emotional Learning\nInnovative Programs to Meet Youth\, Family\, & Community Needs\nEquity & Diversity (including serving diverse youth\, and increasing diversity in the workforce)\nCollaboration\, Teambuilding\, and Public/Private Partnerships
URL:https://nvsuicideprevention.org/event/nevada-afterschool-showcase-march-9-10-in-reno/
END:VEVENT
BEGIN:VEVENT
DTSTART;TZID=America/Los_Angeles:20230304T080000
DTEND;TZID=America/Los_Angeles:20230304T170000
DTSTAMP:20260425T044006
CREATED:20230124T235949Z
LAST-MODIFIED:20230124T235949Z
UID:1443-1677916800-1677949200@nvsuicideprevention.org
SUMMARY:2023 Nevada Urban Indians\, Inc. New Beginnings Health Fair and Youth Wellness Contest Powwow
DESCRIPTION:
URL:https://nvsuicideprevention.org/event/2023-nevada-urban-indians-inc-new-beginnings-health-fair-and-youth-wellness-contest-powwow/
END:VEVENT
BEGIN:VEVENT
DTSTART;TZID=America/Los_Angeles:20230209T080000
DTEND;TZID=America/Los_Angeles:20230210T170000
DTSTAMP:20260425T044006
CREATED:20230124T231731Z
LAST-MODIFIED:20230124T231731Z
UID:1434-1675929600-1676048400@nvsuicideprevention.org
SUMMARY:Nye Communities Coalition - Pahrump NV - ASIST Class
DESCRIPTION:ASIST teaches participants to recognize when someone may have thoughts of suicide and work with them to create a plan that will support their immediate safety. Although ASIST is widely used by healthcare providers\, participants don’t need any formal training to attend the workshop—anyone 16 or older can learn and use the ASIST model. \nSince its development in 1983\, ASIST has received regular updates to reflect improvements in knowledge and practice\, and over 1\,000\,000 people have taken the workshop. Studies show that the ASIST method helps reduce suicidal feelings in those at risk and is a cost-effective way to help address the problem of suicide. \nLearning goals and objectives \nOver the course of their two-day workshop\, ASIST participants learn to: \n\nUnderstand the ways that personal and societal attitudes affect views on suicide and interventions\nProvide guidance and suicide first aid to a person at risk in ways that meet their individual safety needs\nIdentify the key elements of an effective suicide safety plan and the actions required to implement it\nAppreciate the value of improving and integrating suicide prevention resources in the community at large\nRecognize other important aspects of suicide prevention including life-promotion and self-care\n\nWorkshop features: \n\nPresentations and guidance from two LivingWorks registered trainers\nA scientifically proven intervention model\nPowerful audiovisual learning aids\nGroup discussions\nSkills practice and development\nA balance of challenge and safety\n\nASIST helps to build regional networks of trained caregivers who can support each and use common terminology to approach suicide and safety.
URL:https://nvsuicideprevention.org/event/nye-communities-coalition-pahrump-nv-asist-class/
END:VEVENT
BEGIN:VEVENT
DTSTART;TZID=America/Los_Angeles:20230204T080000
DTEND;TZID=America/Los_Angeles:20230205T170000
DTSTAMP:20260425T044006
CREATED:20230124T232249Z
LAST-MODIFIED:20230124T232249Z
UID:1438-1675497600-1675616400@nvsuicideprevention.org
SUMMARY:Lakota Documentary
DESCRIPTION:“LAKOTA”\nAfter the sudden passing of her younger sister\, Lakota Beatty walks us through her personal journey of spiritual healing and wellness by staying connected to her Native identity and using the sport of basketball.
URL:https://nvsuicideprevention.org/event/lakota-documentary/
END:VEVENT
BEGIN:VEVENT
DTSTART;TZID=America/Los_Angeles:20230124T080000
DTEND;TZID=America/Los_Angeles:20230224T170000
DTSTAMP:20260425T044006
CREATED:20230124T231445Z
LAST-MODIFIED:20230124T231445Z
UID:1432-1674547200-1677258000@nvsuicideprevention.org
SUMMARY:YOUTH VIDEO CONTEST
DESCRIPTION:Video Contest Flyer\n\nThe Clark County Children’s Mental Health Consortium (CCCMHC) is hosting a youth video contest to promote Children’s Mental Health Acceptance Week: May 7-13\, 2023. The purpose of this contest to encourage youth throughout Southern Nevada to express their creativity as a way to help raise awareness about mental health.\nWinners will be announced in April\, 2023. Cash prizes will be awarded to 1st\, 2nd\, & 3rd place winners and additional prizes may be awarded! \n1st Place = $200\n2nd Place = $100\n3rd Place = $50\nSubmission Instructions\nDEADLINE: FRIDAY\, FEBRUARY 24\, 2023 BY 11:59pm (PST)\nHOW TO SUBMIT: Eligible participants may CLICK HERE to submit their video and provide the following information:\n• Full names of everyone on the submitting team.\n• Name and contact information of the Lead Producer.\n• Complete link to the unlisted YouTube video or uploaded video file.\n• Signed release forms uploaded as attachments.
URL:https://nvsuicideprevention.org/event/youth-video-contest/
END:VEVENT
BEGIN:VEVENT
DTSTART;TZID=America/Los_Angeles:20221210T110000
DTEND;TZID=America/Los_Angeles:20221210T140000
DTSTAMP:20260425T044006
CREATED:20221212T233821Z
LAST-MODIFIED:20221212T233821Z
UID:1401-1670670000-1670680800@nvsuicideprevention.org
SUMMARY:Giving Back to Box Town
DESCRIPTION:
URL:https://nvsuicideprevention.org/event/giving-back-to-box-town/
ATTACH;FMTTYPE=image/png:https://nvsuicideprevention.org/wp-content/uploads/2022/12/77908070-2e76-4ec7-b25e-96ba5f8daaf2.png
END:VEVENT
BEGIN:VEVENT
DTSTART;TZID=America/Los_Angeles:20221119T090000
DTEND;TZID=America/Los_Angeles:20221119T120000
DTSTAMP:20260425T044006
CREATED:20221118T225811Z
LAST-MODIFIED:20221118T225811Z
UID:1365-1668848400-1668859200@nvsuicideprevention.org
SUMMARY:International Survivors of Suicide Loss Day
DESCRIPTION:﻿\nReno Survivor Day Flier (1) (1)
URL:https://nvsuicideprevention.org/event/international-survivors-of-suicide-loss-day/
ATTACH;FMTTYPE=application/pdf:https://nvsuicideprevention.org/wp-content/uploads/2022/11/Reno-Survivor-Day-Flier-1-1-1.pdf
END:VEVENT
BEGIN:VEVENT
DTSTART;VALUE=DATE:20221017
DTEND;VALUE=DATE:20221020
DTSTAMP:20260425T044006
CREATED:20220917T054956Z
LAST-MODIFIED:20220917T055041Z
UID:1305-1665964800-1666223999@nvsuicideprevention.org
SUMMARY:2022 NAMI Nevada Annual State Education Conference
DESCRIPTION:Welcome! Many of us have personally experienced or witnessed the impacts of mental health and need for ongoing change\, but where does “change” start?  How can we\, in our professions\, our daily lives\, with our biggest of hearts and intentions\, Change Nevada\, Change the World for the many Nevadans and global population of those living with mental health? Please join us for this opportunity to learn how you can Change Nevada by understanding the needs\, upcoming changes\, and more\, happening in our communities and across Nevada\, with the ability to earn continuing education units. \nThis year’s 3-day conference will include expert panel discussions\, testimonies\, valuable information\, and resources that involve every family and profession touched by mental health.
URL:https://nvsuicideprevention.org/event/2022-nami-nevada-annual-state-education-conference/
END:VEVENT
BEGIN:VEVENT
DTSTART;TZID=UTC:20221008T100000
DTEND;TZID=UTC:20221008T130000
DTSTAMP:20260425T044006
CREATED:20220917T054847Z
LAST-MODIFIED:20220917T054847Z
UID:1303-1665223200-1665234000@nvsuicideprevention.org
SUMMARY:NICRP StepUp for Kids
DESCRIPTION:NICRP StepUp for Kids \nOct 8th \nTIME: 10 am-1 pm \nLOCATION:\nEast Las Vegas Library\n2851 E Bonanza Rd\nLas Vegas\, NV 89101
URL:https://nvsuicideprevention.org/event/nicrp-stepup-for-kids/
END:VEVENT
BEGIN:VEVENT
DTSTART;TZID=America/New_York:20221006T150000
DTEND;TZID=America/New_York:20221006T160000
DTSTAMP:20260425T044006
CREATED:20221006T023521Z
LAST-MODIFIED:20221006T044720Z
UID:1311-1665068400-1665072000@nvsuicideprevention.org
SUMMARY:Update on 988: What Mental Health Professionals Need to Know Now
DESCRIPTION:Update on 988: What Mental Health Professionals Need to Know Now\nOctober 6\, 2022 | 3:00 pm – 4:00 pm ET | Live Webinar \nAs of July 16\, 2022\, people experiencing a mental health\, substance use or suicide crisis can call or text 988 or chat with the Lifeline at 988lifeline.org and be connected to trained crisis counselors in the 988 Suicide and Crisis Lifeline network. These crisis counselors are trained to help anyone experiencing a mental health crisis or emotional distress. This is a great step forward to help people more easily access help during a crisis — but the work is just beginning. Currently\, the system we need to have in place to respond to people in crisis who call 988 is only available in some communities — and often at insufficient levels to meet the demand. This presentation will provide an update on the transition to 988\, an overview of an ideal crisis response system and what actions still need to happen so we can ensure that all people in crisis can receive an appropriate response.  \nREGISTER HERE\nFormat\nLive interactive webinar \nLearning Objectives  \n\nDistinguish the differences between the old Lifeline and the new 988 Suicide and Crisis Lifeline. \nAssess how 988 can be an effective resource for patients. \nEvaluate the level of mental health crisis response in a given community. \n\nOutline   \n\nA vision for a mental health response to mental health crises \nWhat is 988 – what happened on July 16? \nHow 988 will work (911 vs. 988) \nWhere are we today?  \nWhat else needs to happen to #ReimagineCrisis \nAttendee Q&A 
URL:https://nvsuicideprevention.org/event/update-on-988-what-mental-health-professionals-need-to-know-now/
ATTACH;FMTTYPE=image/jpeg:https://nvsuicideprevention.org/wp-content/uploads/2022/10/NCSP.jpg
END:VEVENT
BEGIN:VEVENT
DTSTART;TZID=UTC:20220910T173000
DTEND;TZID=UTC:20220910T190000
DTSTAMP:20260425T044006
CREATED:20220910T063738Z
LAST-MODIFIED:20220911T010614Z
UID:1277-1662831000-1662836400@nvsuicideprevention.org
SUMMARY:World Suicide Prevention Day 2022
DESCRIPTION:Join us on World Suicide Prevention Day\nHBO Documentary Screening\nCrisis Hotline: Veterans Press 1\n988 Panel Discussion\nLantern Lighting and Operation Battle Born Ruck for Life \nSeptember 10\, 2022\n5:30 PM\nTruckee Meadows Community College \n﻿World Suicide Prevention Day 9 10 22
URL:https://nvsuicideprevention.org/event/world-suicide-prevention-day-2022/
LOCATION:Truckee Meadows Community College\, 7000 Dandini Blvd\, Reno\, NV\, 89512\, United States
CATEGORIES:world suicide prevention day
END:VEVENT
END:VCALENDAR